BEGIN:VCALENDAR
VERSION:2.0
PRODID:-//hacksw/handcal//NONSGML v1.0//EN
CALSCALE:GREGORIAN
BEGIN:VEVENT
UID:189
DTSTAMP:20260424T125708Z
DESCRIPTION:[B]Saturday Social Race Apeldoorn[/B]

[B]Wanneer:[/B] Zaterdagochtend 25 April
[B]Vertrektijd:[/B] 10:30 uur
[B]Koffie/korte lunch:[/B] Bij 33km [URL='https://www.buitengewoonholten.nl/lunchen-holterberg/'][B]Restaurant Buitengewoon Holte[/B][/URL]
[B]Snelheid:[/B] Voorkeur: Race Party Pace! (27/30kmph) Tis maar net hoe de wind waait 😀.
[B]Het weer:[/B] 17 graden met veel zon = kort-kort

[B]Vertrekpunt:[/B] Teuge[URL='https://maps.app.goo.gl/RSSmPYNsbymB4AQv9'][B] Kruising Rijksstraatweg en Stationsweg[/B][/URL]
[B]GPX-bestand:[/B] [URL='https://www.felua.cc/attachments/ochtendrit-holterberg-gpx.1895/'][B]Klik hier om het routebestand te downloaden[/B][/URL]

[B]Ride The Unexpected (y)[/B]
DTSTART:20260425T083000Z
DTEND:20260425T123000Z
LOCATION:Teuge
SUMMARY:Saturday Social Race Apeldoorn
URL;VALUE=URI:https://www.felua.cc/events/saturday-social-race-apeldoorn.189/
PARTICIPATION:NEEDS-ACTION
END:VEVENT
END:VCALENDAR